BEGIN:VCALENDAR
VERSION:2.0
PRODID:-//Keiretsu Forum Spain - ECPv6.15.20//NONSGML v1.0//EN
CALSCALE:GREGORIAN
METHOD:PUBLISH
X-WR-CALNAME:Keiretsu Forum Spain
X-ORIGINAL-URL:https://keiretsuforum.es
X-WR-CALDESC:Eventos para Keiretsu Forum Spain
REFRESH-INTERVAL;VALUE=DURATION:PT1H
X-Robots-Tag:noindex
X-PUBLISHED-TTL:PT1H
BEGIN:VTIMEZONE
TZID:Europe/Madrid
BEGIN:DAYLIGHT
TZOFFSETFROM:+0100
TZOFFSETTO:+0200
TZNAME:CEST
DTSTART:20220327T010000
END:DAYLIGHT
BEGIN:STANDARD
TZOFFSETFROM:+0200
TZOFFSETTO:+0100
TZNAME:CET
DTSTART:20221030T010000
END:STANDARD
BEGIN:DAYLIGHT
TZOFFSETFROM:+0100
TZOFFSETTO:+0200
TZNAME:CEST
DTSTART:20230326T010000
END:DAYLIGHT
BEGIN:STANDARD
TZOFFSETFROM:+0200
TZOFFSETTO:+0100
TZNAME:CET
DTSTART:20231029T010000
END:STANDARD
BEGIN:DAYLIGHT
TZOFFSETFROM:+0100
TZOFFSETTO:+0200
TZNAME:CEST
DTSTART:20240331T010000
END:DAYLIGHT
BEGIN:STANDARD
TZOFFSETFROM:+0200
TZOFFSETTO:+0100
TZNAME:CET
DTSTART:20241027T010000
END:STANDARD
END:VTIMEZONE
BEGIN:VEVENT
DTSTART;TZID=Europe/Madrid:20230927T100000
DTEND;TZID=Europe/Madrid:20230927T140000
DTSTAMP:20260422T204351
CREATED:20230720T102710Z
LAST-MODIFIED:20230720T102710Z
UID:44941-1695808800-1695823200@keiretsuforum.es
SUMMARY:Sesión formativa Madrid  - LA VALIDACIÓN PRELIMINAR DEL PROYECTO STARTUP
DESCRIPTION:El Ciclo de Formación para personas emprendedoras estará compuesto por sesiones de 4h. cada una de ellas y un Foro de Inversión. PUEDES REGISTRARTE DE FORMA GRATUITA\nLa próxima sesión tendrá lugar el miércoles 27 de noviembre (10:00h. a 14:00h.en el Vivero de empresas de Vicálvaro) y la impartirá Ángel San segundo bajo el título «LA VALIDACIÓN PRELIMINAR DEL PROYECTO STARTUP». Esta sesión estará enfocada en las siguientes cuestiones: \n\nClientes\nCompetencia\nTendencias\nProposición de valor\nPrueba de concepto\nModelo de negocio\nBusiness case\ngo /no go\n\n \n\nREGISTRO GRATUITO
URL:https://keiretsuforum.es/evento/sesion-formativa-madrid-la-validacion-preliminar-del-proyecto-startup/
LOCATION:Viveros de empresas Vicalvaro\, Madrid\, C. de Villablanca\, 85\, 28032 Madrid\, Madrid\, Madrid\, 28032\, España
ATTACH;FMTTYPE=image/jpeg:https://keiretsuforum.es/wp-content/uploads/2023/07/1.jpg
END:VEVENT
END:VCALENDAR