BEGIN:VCALENDAR
VERSION:2.0
PRODID:-//Keiretsu Forum Spain - ECPv6.15.20//NONSGML v1.0//EN
CALSCALE:GREGORIAN
METHOD:PUBLISH
X-ORIGINAL-URL:https://keiretsuforum.es
X-WR-CALDESC:Eventos para Keiretsu Forum Spain
REFRESH-INTERVAL;VALUE=DURATION:PT1H
X-Robots-Tag:noindex
X-PUBLISHED-TTL:PT1H
BEGIN:VTIMEZONE
TZID:Europe/Madrid
BEGIN:DAYLIGHT
TZOFFSETFROM:+0100
TZOFFSETTO:+0200
TZNAME:CEST
DTSTART:20190331T010000
END:DAYLIGHT
BEGIN:STANDARD
TZOFFSETFROM:+0200
TZOFFSETTO:+0100
TZNAME:CET
DTSTART:20191027T010000
END:STANDARD
BEGIN:DAYLIGHT
TZOFFSETFROM:+0100
TZOFFSETTO:+0200
TZNAME:CEST
DTSTART:20200329T010000
END:DAYLIGHT
BEGIN:STANDARD
TZOFFSETFROM:+0200
TZOFFSETTO:+0100
TZNAME:CET
DTSTART:20201025T010000
END:STANDARD
BEGIN:DAYLIGHT
TZOFFSETFROM:+0100
TZOFFSETTO:+0200
TZNAME:CEST
DTSTART:20210328T010000
END:DAYLIGHT
BEGIN:STANDARD
TZOFFSETFROM:+0200
TZOFFSETTO:+0100
TZNAME:CET
DTSTART:20211031T010000
END:STANDARD
END:VTIMEZONE
BEGIN:VEVENT
DTSTART;TZID=Europe/Madrid:20200609T160000
DTEND;TZID=Europe/Madrid:20200609T190000
DTSTAMP:20260425T181102
CREATED:20200522T104043Z
LAST-MODIFIED:20200522T105207Z
UID:7040-1591718400-1591729200@keiretsuforum.es
SUMMARY:Conferencia online "Soy emprendedor... ¿Cómo hago para valorar mi startup?"
DESCRIPTION:Soy emprendedor… ¿Cómo hago para valorar mi startup?\nLa valoración de la empresa es un elemento clave en todo proceso de capitalización o financiación de startups.\nVeremos cuales son las técnicas de valoración objetiva que utilizan los inversores privados o business angels.\nTaller-workshop dirigido a startups que están en procesos de ampliación de capital\, o que tienen previsto iniciarlo. \nInscripción al curso
URL:https://keiretsuforum.es/evento/conferencia-online-soy-emprendedor-como-hago-para-valorar-mi-startup/
CATEGORIES:Curso para emprendedores
ATTACH;FMTTYPE=image/png:https://keiretsuforum.es/wp-content/uploads/2020/05/Diseño-sin-título-3.png
ORGANIZER;CN="Keiretsu Forum Spain":MAILTO:comunicacion@keiretsuforum.com
END:VEVENT
END:VCALENDAR