BEGIN:VCALENDAR
VERSION:2.0
PRODID:-//Keiretsu Forum Spain - ECPv6.15.20//NONSGML v1.0//EN
CALSCALE:GREGORIAN
METHOD:PUBLISH
X-WR-CALNAME:Keiretsu Forum Spain
X-ORIGINAL-URL:https://keiretsuforum.es
X-WR-CALDESC:Eventos para Keiretsu Forum Spain
REFRESH-INTERVAL;VALUE=DURATION:PT1H
X-Robots-Tag:noindex
X-PUBLISHED-TTL:PT1H
BEGIN:VTIMEZONE
TZID:Europe/Madrid
BEGIN:DAYLIGHT
TZOFFSETFROM:+0100
TZOFFSETTO:+0200
TZNAME:CEST
DTSTART:20200329T010000
END:DAYLIGHT
BEGIN:STANDARD
TZOFFSETFROM:+0200
TZOFFSETTO:+0100
TZNAME:CET
DTSTART:20201025T010000
END:STANDARD
BEGIN:DAYLIGHT
TZOFFSETFROM:+0100
TZOFFSETTO:+0200
TZNAME:CEST
DTSTART:20210328T010000
END:DAYLIGHT
BEGIN:STANDARD
TZOFFSETFROM:+0200
TZOFFSETTO:+0100
TZNAME:CET
DTSTART:20211031T010000
END:STANDARD
BEGIN:DAYLIGHT
TZOFFSETFROM:+0100
TZOFFSETTO:+0200
TZNAME:CEST
DTSTART:20220327T010000
END:DAYLIGHT
BEGIN:STANDARD
TZOFFSETFROM:+0200
TZOFFSETTO:+0100
TZNAME:CET
DTSTART:20221030T010000
END:STANDARD
END:VTIMEZONE
BEGIN:VEVENT
DTSTART;TZID=Europe/Madrid:20210921T094500
DTEND;TZID=Europe/Madrid:20210921T134500
DTSTAMP:20260424T182455
CREATED:20210908T093536Z
LAST-MODIFIED:20210908T093536Z
UID:12513-1632217500-1632231900@keiretsuforum.es
SUMMARY:Ciclo de Formación para personas emprendedoras: CLAVES PARA FINANCIAR CON ÉXITO MI STARTUP
DESCRIPTION:Madrid Emprende ha adjudicado a Keiretsu Forum hasta 2023 la organización de los Foros de Inversión de las empresas de los Viveros de Madrid. \nEl Ciclo de Formación para personas emprendedoras estará compuesto por 5 sesiones de 4h. cada una de ellas y 2 Foros de Inversión. PUEDES REGISTRARTE DE FORMA GRATUITA\nEste año 2021 celebraremos las dos primeras sesiones formativas de 4h. cada una de ellas y un Foro de Inversión con las empresas finalistas seleccionadas. \nLa primera sesión tendrá lugar el martes 21 de septiembre (9:45h. a 13:45h.) y la impartirá Ángel San segundo bajo el título “LA VALIDACIÓN PRELIMINAR DEL PROYECTO STARTUP”. Esta sesión estará enfocada en las siguientes cuestiones: \n\nClientes\nCompetencia \nTendencia\nProposición de valor\nPrueba de concepto\nModelo de negocio\nBusiness Case preliminar\nGO/NO GO\n\n  \n  \n\nREGISTRO GRATUITO\n\n\n\n\n\n\n\n\n\n  \nÁngel San Segundo – Académico y Business Angel – Análisis y evaluación de startups. Recomendaciones y experiencias \n \n\n\n\nIngeniero industrial por la UPM\, MBA por EOI Escuela de Organización Industrial y AMP por London Business School. Posee amplia experiencia\, principalmente\, en gestión estratégica\, planes de transformación competitiva\, emprendimiento\, innovación\, CRM\, Business Intelligence & Analytics y consultoría. \nActualmente es asesor de empresas y de start-ups\, dedicándose también a Keiretsu Forum como Entrepreneurship Director para Madrid\n• participar como profesor en diversas universidades y escuelas de negocio (EAE\, UCIII\, UCA\, EOI\,)\n• emprender e invertir en proyectos de valor añadido \nEntre otros puestos desempeñados\, ha sido socio de PricewaterhouseCoopers e IBM Business Services liderando sus servicios de consultoría en el Área de Estrategia y la práctica de CRM para el sur de Europa. Ha ocupado también diversos puestos ejecutivos en empresas del sector defensa\, electrónica profesional\, educación y capital riesgo.
URL:https://keiretsuforum.es/evento/ciclo-de-formacion-para-personas-emprendedoras-claves-para-financiar-con-exito-mi-startup/
LOCATION:Viveros de empresas Vicalvaro\, Madrid\, C. de Villablanca\, 85\, 28032 Madrid\, Madrid\, Madrid\, 28032\, España
CATEGORIES:Curso para emprendedores,Eventos
ATTACH;FMTTYPE=image/jpeg:https://keiretsuforum.es/wp-content/uploads/2021/08/2.jpg
ORGANIZER;CN="Madrid Emprende y Keiretsu Forum Spain":MAILTO:comunicacion@keiretsuforum.com
END:VEVENT
END:VCALENDAR