BEGIN:VCALENDAR
VERSION:2.0
PRODID:-//Keiretsu Forum Spain - ECPv6.15.20//NONSGML v1.0//EN
CALSCALE:GREGORIAN
METHOD:PUBLISH
X-ORIGINAL-URL:https://keiretsuforum.es
X-WR-CALDESC:Eventos para Keiretsu Forum Spain
REFRESH-INTERVAL;VALUE=DURATION:PT1H
X-Robots-Tag:noindex
X-PUBLISHED-TTL:PT1H
BEGIN:VTIMEZONE
TZID:Europe/Madrid
BEGIN:DAYLIGHT
TZOFFSETFROM:+0100
TZOFFSETTO:+0200
TZNAME:CEST
DTSTART:20200329T010000
END:DAYLIGHT
BEGIN:STANDARD
TZOFFSETFROM:+0200
TZOFFSETTO:+0100
TZNAME:CET
DTSTART:20201025T010000
END:STANDARD
BEGIN:DAYLIGHT
TZOFFSETFROM:+0100
TZOFFSETTO:+0200
TZNAME:CEST
DTSTART:20210328T010000
END:DAYLIGHT
BEGIN:STANDARD
TZOFFSETFROM:+0200
TZOFFSETTO:+0100
TZNAME:CET
DTSTART:20211031T010000
END:STANDARD
BEGIN:DAYLIGHT
TZOFFSETFROM:+0100
TZOFFSETTO:+0200
TZNAME:CEST
DTSTART:20220327T010000
END:DAYLIGHT
BEGIN:STANDARD
TZOFFSETFROM:+0200
TZOFFSETTO:+0100
TZNAME:CET
DTSTART:20221030T010000
END:STANDARD
END:VTIMEZONE
BEGIN:VEVENT
DTSTART;TZID=Europe/Madrid:20211007T094500
DTEND;TZID=Europe/Madrid:20211007T134500
DTSTAMP:20260424T165623
CREATED:20211005T100852Z
LAST-MODIFIED:20211005T100852Z
UID:13104-1633599900-1633614300@keiretsuforum.es
SUMMARY:Lecciones aprendidas de presentaciones ganadoras a inversores
DESCRIPTION:Segunda sesión del programa Captación en rondas e inversión para startups BEAZ BIZKAIA \n  \n 
URL:https://keiretsuforum.es/evento/lecciones-aprendidas-de-presentaciones-ganadoras-a-inversores/
LOCATION:BEAZ – BIZKAIA\, Sabino Arana 8\, 48013 Bilbao\, Bilbao\, BIKAIA\, España
CATEGORIES:Curso para emprendedores,Eventos
ATTACH;FMTTYPE=image/jpeg:https://keiretsuforum.es/wp-content/uploads/2021/10/infografía-rondas-mod-copia.jpg
END:VEVENT
BEGIN:VEVENT
DTSTART;TZID=Europe/Madrid:20211015T094500
DTEND;TZID=Europe/Madrid:20211015T134500
DTSTAMP:20260424T165623
CREATED:20211005T101138Z
LAST-MODIFIED:20211005T101138Z
UID:13110-1634291100-1634305500@keiretsuforum.es
SUMMARY:Valoración de empresas y startups
DESCRIPTION:Tercera sesión del programa Captación en rondas e inversión para startups BEAZ BIZKAIA \nPonencia de Fernando Moroy – Valoración de empresas y startups
URL:https://keiretsuforum.es/evento/valoracion-de-empresas-y-startups/
LOCATION:BEAZ – BIZKAIA\, Sabino Arana 8\, 48013 Bilbao\, Bilbao\, BIKAIA\, España
CATEGORIES:Curso para emprendedores,Eventos
ATTACH;FMTTYPE=image/jpeg:https://keiretsuforum.es/wp-content/uploads/2021/10/infografía-rondas-mod-copia.jpg
END:VEVENT
BEGIN:VEVENT
DTSTART;TZID=Europe/Madrid:20211019T094500
DTEND;TZID=Europe/Madrid:20211019T134500
DTSTAMP:20260424T165623
CREATED:20211005T101755Z
LAST-MODIFIED:20211005T101755Z
UID:13112-1634636700-1634651100@keiretsuforum.es
SUMMARY:FINANCIACIÓN DE STARTUPS
DESCRIPTION:Segunda sesión del ciclo Formación para personas emprendedoras de los servicios de apoyo al emprendimiento en los viveros de empresas del ayuntamiento de Madrid. \nPonente Miquel Costa – Financiación de Startups \nRegistro gratuito en este enlace \nMás información en este enlace
URL:https://keiretsuforum.es/evento/financiacion-de-startups/
LOCATION:Viveros de empresas Vicalvaro\, Madrid\, C. de Villablanca\, 85\, 28032 Madrid\, Madrid\, Madrid\, 28032\, España
CATEGORIES:Curso para emprendedores,Eventos
ATTACH;FMTTYPE=image/jpeg:https://keiretsuforum.es/wp-content/uploads/2021/08/3.jpg
ORGANIZER;CN="Madrid Emprende y Keiretsu Forum Spain":MAILTO:comunicacion@keiretsuforum.com
END:VEVENT
BEGIN:VEVENT
DTSTART;TZID=Europe/Madrid:20211022T094500
DTEND;TZID=Europe/Madrid:20211022T134500
DTSTAMP:20260424T165623
CREATED:20211005T102056Z
LAST-MODIFIED:20211005T102056Z
UID:13116-1634895900-1634910300@keiretsuforum.es
SUMMARY:Financiación de startups
DESCRIPTION:Cuarta sesión del programa Captación en rondas e inversión para startups BEAZ BIZKAIA \nPonencia de Miquel Costa – Financiación de Startups
URL:https://keiretsuforum.es/evento/financiacion-de-startups-2/
LOCATION:BEAZ – BIZKAIA\, Sabino Arana 8\, 48013 Bilbao\, Bilbao\, BIKAIA\, España
CATEGORIES:Curso para emprendedores,Eventos
ATTACH;FMTTYPE=image/jpeg:https://keiretsuforum.es/wp-content/uploads/2021/10/infografía-rondas-mod-copia.jpg
END:VEVENT
BEGIN:VEVENT
DTSTART;TZID=Europe/Madrid:20211027T094500
DTEND;TZID=Europe/Madrid:20211027T134500
DTSTAMP:20260424T165623
CREATED:20211005T102917Z
LAST-MODIFIED:20211005T102917Z
UID:13123-1635327900-1635342300@keiretsuforum.es
SUMMARY:Negociación con Inversores
DESCRIPTION:Quinta sesión del programa Captación en rondas e inversión para startups BEAZ BIZKAIA \nPonencia de Maider Barahona – Financiación de Startups
URL:https://keiretsuforum.es/evento/negociacion-con-inversores/
LOCATION:BEAZ – BIZKAIA\, Sabino Arana 8\, 48013 Bilbao\, Bilbao\, BIKAIA\, España
CATEGORIES:Curso para emprendedores,Eventos
ATTACH;FMTTYPE=image/jpeg:https://keiretsuforum.es/wp-content/uploads/2021/10/infografía-rondas-mod-copia.jpg
END:VEVENT
END:VCALENDAR