BEGIN:VCALENDAR
VERSION:2.0
PRODID:-//Keiretsu Forum Spain - ECPv6.15.20//NONSGML v1.0//EN
CALSCALE:GREGORIAN
METHOD:PUBLISH
X-ORIGINAL-URL:https://keiretsuforum.es
X-WR-CALDESC:Eventos para Keiretsu Forum Spain
REFRESH-INTERVAL;VALUE=DURATION:PT1H
X-Robots-Tag:noindex
X-PUBLISHED-TTL:PT1H
BEGIN:VTIMEZONE
TZID:Europe/Madrid
BEGIN:DAYLIGHT
TZOFFSETFROM:+0100
TZOFFSETTO:+0200
TZNAME:CEST
DTSTART:20190331T010000
END:DAYLIGHT
BEGIN:STANDARD
TZOFFSETFROM:+0200
TZOFFSETTO:+0100
TZNAME:CET
DTSTART:20191027T010000
END:STANDARD
BEGIN:DAYLIGHT
TZOFFSETFROM:+0100
TZOFFSETTO:+0200
TZNAME:CEST
DTSTART:20200329T010000
END:DAYLIGHT
BEGIN:STANDARD
TZOFFSETFROM:+0200
TZOFFSETTO:+0100
TZNAME:CET
DTSTART:20201025T010000
END:STANDARD
BEGIN:DAYLIGHT
TZOFFSETFROM:+0100
TZOFFSETTO:+0200
TZNAME:CEST
DTSTART:20210328T010000
END:DAYLIGHT
BEGIN:STANDARD
TZOFFSETFROM:+0200
TZOFFSETTO:+0100
TZNAME:CET
DTSTART:20211031T010000
END:STANDARD
END:VTIMEZONE
BEGIN:VEVENT
DTSTART;TZID=Europe/Madrid:20200204T161500
DTEND;TZID=Europe/Madrid:20200204T190000
DTSTAMP:20260424T041807
CREATED:20200109T130606Z
LAST-MODIFIED:20200203T150032Z
UID:5583-1580832900-1580842800@keiretsuforum.es
SUMMARY:Foro de Inversión - Madrid 4 de febrero
DESCRIPTION:El próximo 4 de febrero\, a las 16:15h.\, en CaixaForum Madrid\, Keiretsu Forum organiza el Foro de Inversión Global Keiretsu Forum. \n¿Tu startup busca inversión? Presenta ante decenas de inversores en este Foro\n¿Eres inversor? Regístrate gratis para acudir a este Foro \n 
URL:https://keiretsuforum.es/evento/foro-de-inversion-madrid-4-de-febrero/
LOCATION:CaixaForum Madrid\, Paseo del Prado 36\, Madrid\, Madrid\, 28014\, España
CATEGORIES:Foro de Inversión Madrid
ATTACH;FMTTYPE=image/jpeg:https://keiretsuforum.es/wp-content/uploads/2019/07/UMB0794.jpg
END:VEVENT
END:VCALENDAR