BEGIN:VCALENDAR
VERSION:2.0
PRODID:-//Keiretsu Forum Spain - ECPv6.15.20//NONSGML v1.0//EN
CALSCALE:GREGORIAN
METHOD:PUBLISH
X-WR-CALNAME:Keiretsu Forum Spain
X-ORIGINAL-URL:https://keiretsuforum.es
X-WR-CALDESC:Eventos para Keiretsu Forum Spain
REFRESH-INTERVAL;VALUE=DURATION:PT1H
X-Robots-Tag:noindex
X-PUBLISHED-TTL:PT1H
BEGIN:VTIMEZONE
TZID:Europe/Madrid
BEGIN:DAYLIGHT
TZOFFSETFROM:+0100
TZOFFSETTO:+0200
TZNAME:CEST
DTSTART:20190331T010000
END:DAYLIGHT
BEGIN:STANDARD
TZOFFSETFROM:+0200
TZOFFSETTO:+0100
TZNAME:CET
DTSTART:20191027T010000
END:STANDARD
BEGIN:DAYLIGHT
TZOFFSETFROM:+0100
TZOFFSETTO:+0200
TZNAME:CEST
DTSTART:20200329T010000
END:DAYLIGHT
BEGIN:STANDARD
TZOFFSETFROM:+0200
TZOFFSETTO:+0100
TZNAME:CET
DTSTART:20201025T010000
END:STANDARD
BEGIN:DAYLIGHT
TZOFFSETFROM:+0100
TZOFFSETTO:+0200
TZNAME:CEST
DTSTART:20210328T010000
END:DAYLIGHT
BEGIN:STANDARD
TZOFFSETFROM:+0200
TZOFFSETTO:+0100
TZNAME:CET
DTSTART:20211031T010000
END:STANDARD
END:VTIMEZONE
BEGIN:VEVENT
DTSTART;TZID=Europe/Madrid:20200310T161500
DTEND;TZID=Europe/Madrid:20200310T190000
DTSTAMP:20260424T041904
CREATED:20200109T130728Z
LAST-MODIFIED:20200219T093603Z
UID:5585-1583856900-1583866800@keiretsuforum.es
SUMMARY:Foro de Inversión - Madrid 10 de marzo
DESCRIPTION:El próximo 10 de marzo\, a las 16:15h.\, en CaixaForum Madrid\, Keiretsu Forum organiza el Foro de Inversión Global Keiretsu Forum. \n¿Tu startup busca inversión? Presenta ante decenas de inversores en este Foro\n¿Eres inversor? Regístrate gratis para acudir a este Foro de Inversión \n  \n 
URL:https://keiretsuforum.es/evento/foro-de-inversion-madrid-10-de-marzo/
LOCATION:CaixaForum Madrid\, Paseo del Prado 36\, Madrid\, Madrid\, 28014\, España
CATEGORIES:Foro de Inversión Madrid
ATTACH;FMTTYPE=image/jpeg:https://keiretsuforum.es/wp-content/uploads/2019/07/UMB0794.jpg
END:VEVENT
END:VCALENDAR