BEGIN:VCALENDAR
VERSION:2.0
PRODID:-//Keiretsu Forum Spain - ECPv6.15.20//NONSGML v1.0//EN
CALSCALE:GREGORIAN
METHOD:PUBLISH
X-ORIGINAL-URL:https://keiretsuforum.es
X-WR-CALDESC:Eventos para Keiretsu Forum Spain
REFRESH-INTERVAL;VALUE=DURATION:PT1H
X-Robots-Tag:noindex
X-PUBLISHED-TTL:PT1H
BEGIN:VTIMEZONE
TZID:Europe/Madrid
BEGIN:DAYLIGHT
TZOFFSETFROM:+0100
TZOFFSETTO:+0200
TZNAME:CEST
DTSTART:20220327T010000
END:DAYLIGHT
BEGIN:STANDARD
TZOFFSETFROM:+0200
TZOFFSETTO:+0100
TZNAME:CET
DTSTART:20221030T010000
END:STANDARD
BEGIN:DAYLIGHT
TZOFFSETFROM:+0100
TZOFFSETTO:+0200
TZNAME:CEST
DTSTART:20230326T010000
END:DAYLIGHT
BEGIN:STANDARD
TZOFFSETFROM:+0200
TZOFFSETTO:+0100
TZNAME:CET
DTSTART:20231029T010000
END:STANDARD
BEGIN:DAYLIGHT
TZOFFSETFROM:+0100
TZOFFSETTO:+0200
TZNAME:CEST
DTSTART:20240331T010000
END:DAYLIGHT
BEGIN:STANDARD
TZOFFSETFROM:+0200
TZOFFSETTO:+0100
TZNAME:CET
DTSTART:20241027T010000
END:STANDARD
END:VTIMEZONE
BEGIN:VEVENT
DTSTART;TZID=Europe/Madrid:20231005T163000
DTEND;TZID=Europe/Madrid:20231005T190000
DTSTAMP:20260422T185235
CREATED:20230727T110117Z
LAST-MODIFIED:20230727T110117Z
UID:45058-1696523400-1696532400@keiretsuforum.es
SUMMARY:Foro de Inversión en Málaga – 5 de octubre – Museo Carmen Thyssen
DESCRIPTION:Keiretsu Forum Andalucía celebrará el próximo 5 de octubre un nuevo Foro de Inversión en Startups que congregará a todo el ecosistema inversor\, tanto andaluz como nacional. \nEl evento (16:30h) tendrá lugar en el Museo Carmen Thyssen Málaga\, donde los inversores (que previamente deberán registrarse) podrán acudir de forma presencial y online para conocer en vivo los 8 proyectos innovadores que presentarán los emprendedores seleccionados. \nEstas 8 startups buscan cerrar sus respectivas rondas de financiación con el objetivo de conseguir inversión por valores de hasta 800.000€. \nLos emprendedores compartirán una presentación explicando\, de forma breve\, a qué se dedican sus empresas\, cuáles son sus modelos de negocio\, los resultados que han obtenido hasta el momento\, etc. También conoceremos los objetivos que tienen de cara al foro y el punto en el que se encuentran sus procesos de financiación. \nAquellos inversores que no puedan desplazarse también tendrán oportunidad de conocer los proyectos presentados\, puesto que el Foro de Inversión también podrá seguirse de forma online (para lo cual será también necesario realizar el registro online). \nPosteriormente\, los inversores podrán solicitar a Keiretsu Forum los datos de contacto de aquellos proyectos que les resulten más interesantes para poder iniciar conversaciones en privado. \nFinalmente\, el foro de inversión concluirá dando paso a una\, siempre interesante\, sesión de networking. \nKeiretsu Forum tiene como objetivo vital crear un espacio para la creación de sinergias en el mundo del emprendimiento y la innovación; por ello\, acto seguido a las presentaciones y la ronda de preguntas para cada proyecto\, Museo Carmen Thyssen Málaga se convertirá en un espacio donde inversores y emprendedores podrán debatir\, compartir ideas y conocer agentes del ecosistema en un ambiente distendido. \n\n\nSi quieres ser una de las 8 Startups finalistas puedes enviarnos\, lo más cumplimentado posible\, la solicitud de participación que puedes descargar en este botón: \n\nPRESENTAR MI STARTUP\n\nSi quiere atender el Foro de Inversión como inversor\, regístrese en el siguiente botón: \n\nREGISTRO AL FORO DE INVERSIÓN
URL:https://keiretsuforum.es/evento/foro-de-inversion-en-malaga-5-de-octubre-museo-carmen-thyssen/
LOCATION:Museo Thyssen\, Málaga.\, Calle Compañía\, 10\, 29008 Málaga\, Málaga\, Andalucía\, España
CATEGORIES:Foro de Inversión Madrid,Foro de Inversión Online
ATTACH;FMTTYPE=image/jpeg:https://keiretsuforum.es/wp-content/uploads/2023/07/Copia-de-Caratula-Foro-malaga.jpg
ORGANIZER;CN="Keiretsu Forum Andalucia":MAILTO:comunicacion@keiretsuforum.com
END:VEVENT
BEGIN:VEVENT
DTSTART;TZID=Europe/Madrid:20231010T160000
DTEND;TZID=Europe/Madrid:20231010T183000
DTSTAMP:20260422T185235
CREATED:20230727T105858Z
LAST-MODIFIED:20230727T105858Z
UID:45055-1696953600-1696962600@keiretsuforum.es
SUMMARY:REGISTRO BARCELONA:  «APRENDE A INVERTIR EN STARTUPS»
DESCRIPTION:REGISTRO: \n«APRENDE A INVERTIR EN STARTUPS» \nEADA BUSINESS SCHOOL – C/ d’Aragó\, 204\, 08011 Barcelona – 10 de octubre\, 16:00h \n\n\nAprende a invertir en starups.\nLa inversión en startups puede ser muy rentable y gratificante\, si se hace con sentido. En estas jornadas debatiremos sobre aquello aspectos clave que puedan servir para el fomento de la actividad y que deberían servir para un mejor entendimiento del proceso inversor en empresas emergentes. \nEN ESTE ENLACE PODRÁN ENCONTRAR MÁS INFORMACIÓN
URL:https://keiretsuforum.es/evento/registro-barcelona-aprende-a-invertir-en-startups/
LOCATION:eada\, Carrer d'Aragó\, 204\, 08011 Barcelona\, Barcelona\, Spain
CATEGORIES:Curso para inversores
ATTACH;FMTTYPE=image/jpeg:https://keiretsuforum.es/wp-content/uploads/2023/07/Jornada-inversores-Barcelona.jpg
ORGANIZER;CN="Keiretsu Forum Spain":MAILTO:comunicacion@keiretsuforum.com
END:VEVENT
BEGIN:VEVENT
DTSTART;TZID=Europe/Madrid:20231017T160000
DTEND;TZID=Europe/Madrid:20231017T190000
DTSTAMP:20260422T185235
CREATED:20230725T160008Z
LAST-MODIFIED:20230928T071950Z
UID:45017-1697558400-1697569200@keiretsuforum.es
SUMMARY:Foro de Inverisón Presencial – 17 de octubre
DESCRIPTION:El próximo 17 de octubre\, a las 16:00h. Keiretsu Forum organiza el Foro de Inversión Global Keiretsu Forum Barcelona.\n\n\n\n¿Tu startup busca inversión? Presenta ante decenas de inversores en este Foro\n¿Eres inversor? Regístrese gratis para acudir al Foro de Inversión
URL:https://keiretsuforum.es/evento/foro-de-inverison-presencial-17-de-octubre/
LOCATION:eada\, Carrer d'Aragó\, 204\, 08011 Barcelona\, Barcelona\, Spain
CATEGORIES:Foro de Inversión Barcelona,Foro de Inversión Online
ATTACH;FMTTYPE=image/jpeg:https://keiretsuforum.es/wp-content/uploads/2023/07/Foro-en-EADA-2-1.jpg
ORGANIZER;CN="Keiretsu Forum Spain":MAILTO:comunicacion@keiretsuforum.com
END:VEVENT
BEGIN:VEVENT
DTSTART;TZID=Europe/Madrid:20231019T100000
DTEND;TZID=Europe/Madrid:20231019T140000
DTSTAMP:20260422T185235
CREATED:20230720T102947Z
LAST-MODIFIED:20250730T094619Z
UID:44944-1697709600-1697724000@keiretsuforum.es
SUMMARY:Sesión formativa Madrid - VALORACIÓN DE STARTUPS
DESCRIPTION:El Ciclo de Formación para personas emprendedoras estará compuesto por sesiones de 4h. cada una de ellas y un Foro de Inversión. PUEDES REGISTRARTE DE FORMA GRATUITA\n\nLa décima sesión tendrá lugar el jueves 19 de octubre (10:00h. a 14:00h. en el Vivero de empresas de Vicálvaro) y la impartirá Fernando Moroy bajo el título «VALORACIÓN DE STARTUPS». Esta sesión estará enfocada en las siguientes cuestiones: \n\nMétodos de valoración de empresas\nValoración de empresas que facturan poco o nada: métodos objetivos\n\n \n\nREGISTRO GRATUITO
URL:https://keiretsuforum.es/evento/sesion-formativa-madrid-valoracion-de-startups/
LOCATION:Viveros de empresas Vicalvaro\, Madrid\, C. de Villablanca\, 85\, 28032 Madrid\, Madrid\, Madrid\, 28032\, España
ATTACH;FMTTYPE=image/jpeg:https://keiretsuforum.es/wp-content/uploads/2023/07/2.jpg
ORGANIZER;CN="Madrid Emprende y Keiretsu Forum Spain":MAILTO:comunicacion@keiretsuforum.com
END:VEVENT
END:VCALENDAR