BEGIN:VCALENDAR
VERSION:2.0
PRODID:-//Keiretsu Forum Spain - ECPv6.15.20//NONSGML v1.0//EN
CALSCALE:GREGORIAN
METHOD:PUBLISH
X-WR-CALNAME:Keiretsu Forum Spain
X-ORIGINAL-URL:https://keiretsuforum.es
X-WR-CALDESC:Eventos para Keiretsu Forum Spain
REFRESH-INTERVAL;VALUE=DURATION:PT1H
X-Robots-Tag:noindex
X-PUBLISHED-TTL:PT1H
BEGIN:VTIMEZONE
TZID:Europe/Madrid
BEGIN:DAYLIGHT
TZOFFSETFROM:+0100
TZOFFSETTO:+0200
TZNAME:CEST
DTSTART:20230326T010000
END:DAYLIGHT
BEGIN:STANDARD
TZOFFSETFROM:+0200
TZOFFSETTO:+0100
TZNAME:CET
DTSTART:20231029T010000
END:STANDARD
BEGIN:DAYLIGHT
TZOFFSETFROM:+0100
TZOFFSETTO:+0200
TZNAME:CEST
DTSTART:20240331T010000
END:DAYLIGHT
BEGIN:STANDARD
TZOFFSETFROM:+0200
TZOFFSETTO:+0100
TZNAME:CET
DTSTART:20241027T010000
END:STANDARD
BEGIN:DAYLIGHT
TZOFFSETFROM:+0100
TZOFFSETTO:+0200
TZNAME:CEST
DTSTART:20250330T010000
END:DAYLIGHT
BEGIN:STANDARD
TZOFFSETFROM:+0200
TZOFFSETTO:+0100
TZNAME:CET
DTSTART:20251026T010000
END:STANDARD
END:VTIMEZONE
BEGIN:VEVENT
DTSTART;TZID=Europe/Madrid:20240116T160000
DTEND;TZID=Europe/Madrid:20240116T190000
DTSTAMP:20260420T074213
CREATED:20231213T114458Z
LAST-MODIFIED:20231213T114458Z
UID:46876-1705420800-1705431600@keiretsuforum.es
SUMMARY:APRENDE A INVERTIR EN STARTUPS - 16 de enero a las 16:00h. BARCELONA
DESCRIPTION:«APRENDE A INVERTIR EN STARTUPS» \nEADA BUSINESS SCHOOL – C/ d’Aragó\, 204\, 08011 Barcelona – 16 de enero\, 16:00h \n\n\nAprende a invertir en starups.\nLa inversión en startups puede ser muy rentable y gratificante\, si se hace con sentido. En estas jornadas debatiremos sobre aquello aspectos clave que puedan servir para el fomento de la actividad y que deberían servir para un mejor entendimiento del proceso inversor en empresas emergentes. \n\n\n\n\nJornada para inversores en Barcelona\n\n\n\n\n16 de enero\, EADA Business School\, Barcelona.\n\n\n\n\nEn esta jornada contaremos con la participación de: \n\n\n\n\n\n\n\n\n\n\n\n\n\n\n\n\n\n\n\n\n\n\n\n\n\n\n\n\n\n\n\n\n\nJordi-Ferran Penina \nInvestment Director en Inveready \n“Cómo evaluamos y analizamos las Startups en Inveready” \n\n\n\n\n\n\n\nGuillem Pérez Millán \nCEO Zemsania y miembro de la Red Keiretsu Forum \n“Mi experiencia como Business Angel” \n\n\n\n\n\n\n\nAbel Román \nResponsable de relación con Inversores –  Keiretsu Forum Spain \n“Red de Business Angels Keiretsu Forum” \n\n\n\n\n\n\n\nMiquel Costa \nPresidente y CEO Keiretsu Forum Spain \n“Curva de aprendizaje en la inversión en Startups”
URL:https://keiretsuforum.es/evento/aprende-a-invertir-en-startups-16-de-enero-a-las-1600h-barcelona/
LOCATION:eada\, Carrer d'Aragó\, 204\, 08011 Barcelona\, Barcelona\, Spain
CATEGORIES:Curso para inversores
ORGANIZER;CN="Keiretsu Forum Spain":MAILTO:comunicacion@keiretsuforum.com
END:VEVENT
BEGIN:VEVENT
DTSTART;TZID=Europe/Madrid:20240118T160000
DTEND;TZID=Europe/Madrid:20240118T180000
DTSTAMP:20260420T074213
CREATED:20231213T114803Z
LAST-MODIFIED:20231213T114803Z
UID:46880-1705593600-1705600800@keiretsuforum.es
SUMMARY:FORMACIÓN VALORACIÓN DE STARTUPS "Cuánto vale mi Startup si facturo poco... o nada" 18 y 25 de enero a las 16:00h
DESCRIPTION:VALORACIÓN DE STARTUPS ¿Cuánto vale mi startup si facturo poco… o nada?\n\n\n\n\n\n\n¡Formación para Startups desde Keiretsu Forum! Descubre las Claves de la Valoración de Startups\nFecha y Formato:\n\nFechas: 18 y 25 de enero\nHorario: De 16:00h a 18:00h\nFormato: 100% Online\n\nLa valoración de una empresa es esencial en cualquier proceso de capitalización o financiación para startups. En este curso intensivo de dos sesiones\, exploraremos las técnicas de valoración utilizadas por inversores privados\, business angels y aquellas aplicables a la inversión de FFF (Friends\, Family\, and Fools). \nObjetivos del Curso:\n\nAdquisición o ampliación de conocimientos en la valoración de empresas\, especialmente en las etapas iniciales.\nEnfoque teórico y práctico para comprender las mejores prácticas en valoración empresarial.\n\nPerfil de los Participantes:\n\nStartups en procesos de ampliación de capital.\nStartups que tienen previsto iniciar procesos de financiación.\n\n\n\n\n\n\nKeiretsu Forum: \n\nLa mayor Red Internacional de Inversores Privados.\nMás de 3.000 miembros que han invertido más de 1 Billón de Dólares en empresas emergentes\nEn España\, Keiretsu Forum cuenta con 5 sedes\, proporcionando a emprendedores e inversores una plataforma única para relacionarse y alcanzar sus objetivos.\n\n\n\n\n\n\n\n\n\n\n\n\n\n\n\n\n\n \n\n\n\nPonente: Miquel Costa\, Presidente y CEO de Keiretsu Forum\, aportará su amplia experiencia en el apoyo financiero a startups. Las dos sesiones\, cada una de dos horas\, abordarán aspectos teóricos y prácticos de manera integral. \n\n\n\n\n\n\n\n\n\n\nPrograma del Curso: Descarga el programa detallado en PDF \n\n\n\n\n\nDESCARGAR PROGRAMA EN PDF\n\n\n\n\n\n\n\n\n\n¡Plazas Limitadas! Regístrate Ahora: Si deseas asegurar tu entrada para esta formación exclusiva\, regístrate utilizando el botón a continuación. \n\n\n\n\n\nREGÍSTRATE AHORA\n\n\n\n\n\n\n\n\n\nNo pierdas la oportunidad de fortalecer tus conocimientos en valoración empresarial y potenciar el éxito de tu startup. ¡Te esperamos en Keiretsu Forum!
URL:https://keiretsuforum.es/evento/formacion-valoracion-de-startups-cuanto-vale-mi-startup-si-facturo-poco-o-nada-18-y-25-de-enero-a-las-1600h/
LOCATION:ONLINE (ZOOM)
CATEGORIES:Curso para emprendedores
ATTACH;FMTTYPE=image/jpeg:https://keiretsuforum.es/wp-content/uploads/2023/11/Caratulas-Formacion-para-Startups-scaled.jpg
ORGANIZER;CN="Keiretsu Forum Spain":MAILTO:comunicacion@keiretsuforum.com
END:VEVENT
BEGIN:VEVENT
DTSTART;TZID=Europe/Madrid:20240123T160000
DTEND;TZID=Europe/Madrid:20240123T190000
DTSTAMP:20260420T074213
CREATED:20231213T115532Z
LAST-MODIFIED:20231213T115532Z
UID:46884-1706025600-1706036400@keiretsuforum.es
SUMMARY:Foro de Inversión Presencial - 23 de enero
DESCRIPTION:El próximo 23 de enero\, a las 16:00h. Keiretsu Forum organiza el Foro de Inversión Global Keiretsu Forum Barcelona.\n\n\n\n¿Tu startup busca inversión? Presenta ante decenas de inversores en este Foro\n¿Eres inversor? Regístrese gratis para acudir al Foro de Inversión
URL:https://keiretsuforum.es/evento/foro-de-inversion-presencial-23-de-enero/
LOCATION:eada\, Carrer d'Aragó\, 204\, 08011 Barcelona\, Barcelona\, Spain
CATEGORIES:Foro de Inversión Barcelona,Foro de Inversión Online
ATTACH;FMTTYPE=image/jpeg:https://keiretsuforum.es/wp-content/uploads/2023/12/2.jpg
ORGANIZER;CN="Keiretsu Forum Spain":MAILTO:comunicacion@keiretsuforum.com
END:VEVENT
END:VCALENDAR